BEGIN:VCALENDAR
VERSION:2.0
PRODID:-//Cluster Music - ECPv6.15.13//NONSGML v1.0//EN
CALSCALE:GREGORIAN
METHOD:PUBLISH
X-ORIGINAL-URL:https://clustermusic.be/nl
X-WR-CALDESC:Evenementen voor Cluster Music
REFRESH-INTERVAL;VALUE=DURATION:PT1H
X-Robots-Tag:noindex
X-PUBLISHED-TTL:PT1H
BEGIN:VTIMEZONE
TZID:Europe/Brussels
BEGIN:DAYLIGHT
TZOFFSETFROM:+0100
TZOFFSETTO:+0200
TZNAME:CEST
DTSTART:20230326T010000
END:DAYLIGHT
BEGIN:STANDARD
TZOFFSETFROM:+0200
TZOFFSETTO:+0100
TZNAME:CET
DTSTART:20231029T010000
END:STANDARD
BEGIN:DAYLIGHT
TZOFFSETFROM:+0100
TZOFFSETTO:+0200
TZNAME:CEST
DTSTART:20240331T010000
END:DAYLIGHT
BEGIN:STANDARD
TZOFFSETFROM:+0200
TZOFFSETTO:+0100
TZNAME:CET
DTSTART:20241027T010000
END:STANDARD
BEGIN:DAYLIGHT
TZOFFSETFROM:+0100
TZOFFSETTO:+0200
TZNAME:CEST
DTSTART:20250330T010000
END:DAYLIGHT
BEGIN:STANDARD
TZOFFSETFROM:+0200
TZOFFSETTO:+0100
TZNAME:CET
DTSTART:20251026T010000
END:STANDARD
END:VTIMEZONE
BEGIN:VTIMEZONE
TZID:Europe/Amsterdam
BEGIN:DAYLIGHT
TZOFFSETFROM:+0100
TZOFFSETTO:+0200
TZNAME:CEST
DTSTART:20230326T010000
END:DAYLIGHT
BEGIN:STANDARD
TZOFFSETFROM:+0200
TZOFFSETTO:+0100
TZNAME:CET
DTSTART:20231029T010000
END:STANDARD
BEGIN:DAYLIGHT
TZOFFSETFROM:+0100
TZOFFSETTO:+0200
TZNAME:CEST
DTSTART:20240331T010000
END:DAYLIGHT
BEGIN:STANDARD
TZOFFSETFROM:+0200
TZOFFSETTO:+0100
TZNAME:CET
DTSTART:20241027T010000
END:STANDARD
BEGIN:DAYLIGHT
TZOFFSETFROM:+0100
TZOFFSETTO:+0200
TZNAME:CEST
DTSTART:20250330T010000
END:DAYLIGHT
BEGIN:STANDARD
TZOFFSETFROM:+0200
TZOFFSETTO:+0100
TZNAME:CET
DTSTART:20251026T010000
END:STANDARD
END:VTIMEZONE
BEGIN:VEVENT
DTSTART;TZID=Europe/Brussels:20240503T200000
DTEND;TZID=Europe/Brussels:20240503T220000
DTSTAMP:20260423T051015
CREATED:20240115T130907Z
LAST-MODIFIED:20240422T142332Z
UID:5517-1714766400-1714773600@clustermusic.be
SUMMARY:Naragonia Quartet
DESCRIPTION:Concert
URL:https://clustermusic.be/nl/agenda/naragonia-quartet-9/
LOCATION:Orléans\, Orléans\, Frankrijk
CATEGORIES:Maarten Decombel
END:VEVENT
BEGIN:VEVENT
DTSTART;VALUE=DATE:20240505
DTEND;VALUE=DATE:20240506
DTSTAMP:20260423T051015
CREATED:20240115T132819Z
LAST-MODIFIED:20240422T141903Z
UID:5525-1714867200-1714953599@clustermusic.be
SUMMARY:Spilar
DESCRIPTION:
URL:https://clustermusic.be/nl/agenda/spilar-3/
LOCATION:Labadoux Festival\, Ingelmunster\, België
CATEGORIES:Maarten Decombel
END:VEVENT
BEGIN:VEVENT
DTSTART;VALUE=DATE:20240508
DTEND;VALUE=DATE:20240509
DTSTAMP:20260423T051015
CREATED:20240119T153932Z
LAST-MODIFIED:20240422T142023Z
UID:5542-1715126400-1715212799@clustermusic.be
SUMMARY:Sauvage
DESCRIPTION:
URL:https://clustermusic.be/nl/agenda/sauvage-3/
LOCATION:Festoval Jazz Dans Le Bocage\, Allier\, Frankrijk
CATEGORIES:Maarten Decombel
END:VEVENT
BEGIN:VEVENT
DTSTART;VALUE=DATE:20240524
DTEND;VALUE=DATE:20240525
DTSTAMP:20260423T051015
CREATED:20240119T154716Z
LAST-MODIFIED:20240422T142149Z
UID:5561-1716508800-1716595199@clustermusic.be
SUMMARY:Snaarmaarwaar
DESCRIPTION:
URL:https://clustermusic.be/nl/agenda/snaarmaarwaar-6/
LOCATION:Music Marathon\, Eupen
CATEGORIES:Maarten Decombel
END:VEVENT
BEGIN:VEVENT
DTSTART;VALUE=DATE:20240525
DTEND;VALUE=DATE:20240526
DTSTAMP:20260423T051015
CREATED:20230912T123543Z
LAST-MODIFIED:20240422T142833Z
UID:4659-1716595200-1716681599@clustermusic.be
SUMMARY:Snaarmaarwaar
DESCRIPTION:
URL:https://clustermusic.be/nl/agenda/snaarmaarwaar/
LOCATION:Folkbal\, Strasbourg (F)\, Folkbal\, Strasbourg\, Strasbourg\, Frankrijk
CATEGORIES:Maarten Decombel
ATTACH;FMTTYPE=image/png:https://clustermusic.be/wp-content/uploads/2023/06/Kopie-van-Cluster-logo-groen-CMYK-01.png
END:VEVENT
BEGIN:VEVENT
DTSTART;TZID=Europe/Brussels:20240531T194500
DTEND;TZID=Europe/Brussels:20240531T220000
DTSTAMP:20260423T051015
CREATED:20231127T135410Z
LAST-MODIFIED:20240422T134310Z
UID:5276-1717184700-1717192800@clustermusic.be
SUMMARY:Spilar
DESCRIPTION:
URL:https://clustermusic.be/nl/agenda/concert-spilar/
LOCATION:CC Staf Versluys\, Bredene\, België
CATEGORIES:Maarten Decombel
END:VEVENT
END:VCALENDAR