BEGIN:VCALENDAR
VERSION:2.0
PRODID:-//Cluster Music - ECPv6.15.13//NONSGML v1.0//EN
CALSCALE:GREGORIAN
METHOD:PUBLISH
X-WR-CALNAME:Cluster Music
X-ORIGINAL-URL:https://clustermusic.be/nl
X-WR-CALDESC:Evenementen voor Cluster Music
REFRESH-INTERVAL;VALUE=DURATION:PT1H
X-Robots-Tag:noindex
X-PUBLISHED-TTL:PT1H
BEGIN:VTIMEZONE
TZID:Europe/Brussels
BEGIN:DAYLIGHT
TZOFFSETFROM:+0100
TZOFFSETTO:+0200
TZNAME:CEST
DTSTART:20230326T010000
END:DAYLIGHT
BEGIN:STANDARD
TZOFFSETFROM:+0200
TZOFFSETTO:+0100
TZNAME:CET
DTSTART:20231029T010000
END:STANDARD
BEGIN:DAYLIGHT
TZOFFSETFROM:+0100
TZOFFSETTO:+0200
TZNAME:CEST
DTSTART:20240331T010000
END:DAYLIGHT
BEGIN:STANDARD
TZOFFSETFROM:+0200
TZOFFSETTO:+0100
TZNAME:CET
DTSTART:20241027T010000
END:STANDARD
BEGIN:DAYLIGHT
TZOFFSETFROM:+0100
TZOFFSETTO:+0200
TZNAME:CEST
DTSTART:20250330T010000
END:DAYLIGHT
BEGIN:STANDARD
TZOFFSETFROM:+0200
TZOFFSETTO:+0100
TZNAME:CET
DTSTART:20251026T010000
END:STANDARD
END:VTIMEZONE
BEGIN:VEVENT
DTSTART;TZID=Europe/Brussels:20241115T200000
DTEND;TZID=Europe/Brussels:20241115T213000
DTSTAMP:20260422T192621
CREATED:20240601T200522Z
LAST-MODIFIED:20240601T200522Z
UID:6093-1731700800-1731706200@clustermusic.be
SUMMARY:Sauvage
DESCRIPTION:LE PROJET « Sauvage » est en lui même un défi\, il s’attache à un sujet délicat et passionnant\, une des musiques les plus mélodiques qui soient\, gravée de fait dans nos mémoires\, celle de Jean Philippe Rameau\, intimidant symbole du classicisme français.
URL:https://clustermusic.be/nl/agenda/sauvage-6/
LOCATION:Jazz Nevers\, Nevers\, Frankrijk
CATEGORIES:Maarten Decombel
END:VEVENT
BEGIN:VEVENT
DTSTART;VALUE=DATE:20241122
DTEND;VALUE=DATE:20241123
DTSTAMP:20260422T192621
CREATED:20240119T155510Z
LAST-MODIFIED:20240422T142632Z
UID:5583-1732233600-1732319999@clustermusic.be
SUMMARY:Folk Ensemble Workshop
DESCRIPTION:Pipenbock stage
URL:https://clustermusic.be/nl/agenda/folk-ensemble-workshop/
LOCATION:Wittenburg\, Duitsland
CATEGORIES:Maarten Decombel
END:VEVENT
BEGIN:VEVENT
DTSTART;VALUE=DATE:20241123
DTEND;VALUE=DATE:20241124
DTSTAMP:20260422T192621
CREATED:20240119T155610Z
LAST-MODIFIED:20240422T142600Z
UID:5587-1732320000-1732406399@clustermusic.be
SUMMARY:Folk Ensemble Workshop
DESCRIPTION:Pipenbock Stage
URL:https://clustermusic.be/nl/agenda/folk-ensemble-workshop-2/
LOCATION:Wittenburg\, Duitsland
CATEGORIES:Maarten Decombel
END:VEVENT
BEGIN:VEVENT
DTSTART;VALUE=DATE:20241124
DTEND;VALUE=DATE:20241125
DTSTAMP:20260422T192621
CREATED:20240119T155701Z
LAST-MODIFIED:20240422T142532Z
UID:5590-1732406400-1732492799@clustermusic.be
SUMMARY:Folk Ensemble Workshop
DESCRIPTION:Pipenbock Stage
URL:https://clustermusic.be/nl/agenda/folk-ensemble-workshop-3/
LOCATION:Wittenburg\, Duitsland
CATEGORIES:Maarten Decombel
END:VEVENT
END:VCALENDAR