BEGIN:VCALENDAR
VERSION:2.0
PRODID:-//Cluster Music - ECPv6.15.13//NONSGML v1.0//EN
CALSCALE:GREGORIAN
METHOD:PUBLISH
X-ORIGINAL-URL:https://clustermusic.be/nl
X-WR-CALDESC:Evenementen voor Cluster Music
REFRESH-INTERVAL;VALUE=DURATION:PT1H
X-Robots-Tag:noindex
X-PUBLISHED-TTL:PT1H
BEGIN:VTIMEZONE
TZID:Europe/Brussels
BEGIN:DAYLIGHT
TZOFFSETFROM:+0100
TZOFFSETTO:+0200
TZNAME:CEST
DTSTART:20230326T010000
END:DAYLIGHT
BEGIN:STANDARD
TZOFFSETFROM:+0200
TZOFFSETTO:+0100
TZNAME:CET
DTSTART:20231029T010000
END:STANDARD
BEGIN:DAYLIGHT
TZOFFSETFROM:+0100
TZOFFSETTO:+0200
TZNAME:CEST
DTSTART:20240331T010000
END:DAYLIGHT
BEGIN:STANDARD
TZOFFSETFROM:+0200
TZOFFSETTO:+0100
TZNAME:CET
DTSTART:20241027T010000
END:STANDARD
BEGIN:DAYLIGHT
TZOFFSETFROM:+0100
TZOFFSETTO:+0200
TZNAME:CEST
DTSTART:20250330T010000
END:DAYLIGHT
BEGIN:STANDARD
TZOFFSETFROM:+0200
TZOFFSETTO:+0100
TZNAME:CET
DTSTART:20251026T010000
END:STANDARD
BEGIN:DAYLIGHT
TZOFFSETFROM:+0100
TZOFFSETTO:+0200
TZNAME:CEST
DTSTART:20260329T010000
END:DAYLIGHT
BEGIN:STANDARD
TZOFFSETFROM:+0200
TZOFFSETTO:+0100
TZNAME:CET
DTSTART:20261025T010000
END:STANDARD
END:VTIMEZONE
BEGIN:VTIMEZONE
TZID:Europe/Amsterdam
BEGIN:DAYLIGHT
TZOFFSETFROM:+0100
TZOFFSETTO:+0200
TZNAME:CEST
DTSTART:20230326T010000
END:DAYLIGHT
BEGIN:STANDARD
TZOFFSETFROM:+0200
TZOFFSETTO:+0100
TZNAME:CET
DTSTART:20231029T010000
END:STANDARD
BEGIN:DAYLIGHT
TZOFFSETFROM:+0100
TZOFFSETTO:+0200
TZNAME:CEST
DTSTART:20240331T010000
END:DAYLIGHT
BEGIN:STANDARD
TZOFFSETFROM:+0200
TZOFFSETTO:+0100
TZNAME:CET
DTSTART:20241027T010000
END:STANDARD
BEGIN:DAYLIGHT
TZOFFSETFROM:+0100
TZOFFSETTO:+0200
TZNAME:CEST
DTSTART:20250330T010000
END:DAYLIGHT
BEGIN:STANDARD
TZOFFSETFROM:+0200
TZOFFSETTO:+0100
TZNAME:CET
DTSTART:20251026T010000
END:STANDARD
END:VTIMEZONE
BEGIN:VEVENT
DTSTART;VALUE=DATE:20240426
DTEND;VALUE=DATE:20240427
DTSTAMP:20260423T095202
CREATED:20240115T130638Z
LAST-MODIFIED:20240422T142225Z
UID:5514-1714089600-1714175999@clustermusic.be
SUMMARY:Decombel-Van Mierlo
DESCRIPTION:
URL:https://clustermusic.be/nl/agenda/decombel-van-mierlo-2/
LOCATION:Balhalla\, Gent\, België
CATEGORIES:Maarten Decombel
END:VEVENT
BEGIN:VEVENT
DTSTART;TZID=Europe/Brussels:20240503T200000
DTEND;TZID=Europe/Brussels:20240503T220000
DTSTAMP:20260423T095202
CREATED:20240115T130907Z
LAST-MODIFIED:20240422T142332Z
UID:5517-1714766400-1714773600@clustermusic.be
SUMMARY:Naragonia Quartet
DESCRIPTION:Concert
URL:https://clustermusic.be/nl/agenda/naragonia-quartet-9/
LOCATION:Orléans\, Orléans\, Frankrijk
CATEGORIES:Maarten Decombel
END:VEVENT
BEGIN:VEVENT
DTSTART;VALUE=DATE:20240505
DTEND;VALUE=DATE:20240506
DTSTAMP:20260423T095202
CREATED:20240115T132819Z
LAST-MODIFIED:20240422T141903Z
UID:5525-1714867200-1714953599@clustermusic.be
SUMMARY:Spilar
DESCRIPTION:
URL:https://clustermusic.be/nl/agenda/spilar-3/
LOCATION:Labadoux Festival\, Ingelmunster\, België
CATEGORIES:Maarten Decombel
END:VEVENT
BEGIN:VEVENT
DTSTART;VALUE=DATE:20240508
DTEND;VALUE=DATE:20240509
DTSTAMP:20260423T095202
CREATED:20240119T153932Z
LAST-MODIFIED:20240422T142023Z
UID:5542-1715126400-1715212799@clustermusic.be
SUMMARY:Sauvage
DESCRIPTION:
URL:https://clustermusic.be/nl/agenda/sauvage-3/
LOCATION:Festoval Jazz Dans Le Bocage\, Allier\, Frankrijk
CATEGORIES:Maarten Decombel
END:VEVENT
BEGIN:VEVENT
DTSTART;VALUE=DATE:20240524
DTEND;VALUE=DATE:20240525
DTSTAMP:20260423T095202
CREATED:20240119T154716Z
LAST-MODIFIED:20240422T142149Z
UID:5561-1716508800-1716595199@clustermusic.be
SUMMARY:Snaarmaarwaar
DESCRIPTION:
URL:https://clustermusic.be/nl/agenda/snaarmaarwaar-6/
LOCATION:Music Marathon\, Eupen
CATEGORIES:Maarten Decombel
END:VEVENT
BEGIN:VEVENT
DTSTART;VALUE=DATE:20240525
DTEND;VALUE=DATE:20240526
DTSTAMP:20260423T095202
CREATED:20230912T123543Z
LAST-MODIFIED:20240422T142833Z
UID:4659-1716595200-1716681599@clustermusic.be
SUMMARY:Snaarmaarwaar
DESCRIPTION:
URL:https://clustermusic.be/nl/agenda/snaarmaarwaar/
LOCATION:Folkbal\, Strasbourg (F)\, Folkbal\, Strasbourg\, Strasbourg\, Frankrijk
CATEGORIES:Maarten Decombel
ATTACH;FMTTYPE=image/png:https://clustermusic.be/wp-content/uploads/2023/06/Kopie-van-Cluster-logo-groen-CMYK-01.png
END:VEVENT
BEGIN:VEVENT
DTSTART;TZID=Europe/Brussels:20240531T194500
DTEND;TZID=Europe/Brussels:20240531T220000
DTSTAMP:20260423T095202
CREATED:20231127T135410Z
LAST-MODIFIED:20240422T134310Z
UID:5276-1717184700-1717192800@clustermusic.be
SUMMARY:Spilar
DESCRIPTION:
URL:https://clustermusic.be/nl/agenda/concert-spilar/
LOCATION:CC Staf Versluys\, Bredene\, België
CATEGORIES:Maarten Decombel
END:VEVENT
BEGIN:VEVENT
DTSTART;TZID=Europe/Brussels:20240615T080000
DTEND;TZID=Europe/Brussels:20240615T170000
DTSTAMP:20260423T095202
CREATED:20240601T134825Z
LAST-MODIFIED:20240601T134825Z
UID:6064-1718438400-1718470800@clustermusic.be
SUMMARY:Snaarmaarwaar
DESCRIPTION:
URL:https://clustermusic.be/nl/agenda/snaarmaarwaar-8/
LOCATION:Alba\, Italië
CATEGORIES:Maarten Decombel
END:VEVENT
BEGIN:VEVENT
DTSTART;TZID=Europe/Brussels:20240724T210000
DTEND;TZID=Europe/Brussels:20240724T220000
DTSTAMP:20260423T095202
CREATED:20240601T133852Z
LAST-MODIFIED:20240601T133852Z
UID:6050-1721854800-1721858400@clustermusic.be
SUMMARY:Spilar
DESCRIPTION:Luisterplein – Gentse Feesten
URL:https://clustermusic.be/nl/agenda/spilar-5/
LOCATION:Gentse Feesten\, Gent\, België
CATEGORIES:Maarten Decombel
END:VEVENT
BEGIN:VEVENT
DTSTART;TZID=Europe/Brussels:20240726T200000
DTEND;TZID=Europe/Brussels:20240726T210000
DTSTAMP:20260423T095202
CREATED:20240601T134825Z
LAST-MODIFIED:20240601T134954Z
UID:6067-1722024000-1722027600@clustermusic.be
SUMMARY:Snaarmaarwaar
DESCRIPTION:
URL:https://clustermusic.be/nl/agenda/snaarmaarwaar-8-2/
LOCATION:Beleuvenissen\, Leuven\, België
CATEGORIES:Maarten Decombel
END:VEVENT
BEGIN:VEVENT
DTSTART;TZID=Europe/Brussels:20240731T003000
DTEND;TZID=Europe/Brussels:20240731T013000
DTSTAMP:20260423T095202
CREATED:20240601T134825Z
LAST-MODIFIED:20240601T135135Z
UID:6070-1722385800-1722389400@clustermusic.be
SUMMARY:Snaarmaarwaar
DESCRIPTION:
URL:https://clustermusic.be/nl/agenda/snaarmaarwaar-8-2-2/
LOCATION:Gennetines\, Frankrijk
CATEGORIES:Maarten Decombel
END:VEVENT
BEGIN:VEVENT
DTSTART;TZID=Europe/Brussels:20240801T010000
DTEND;TZID=Europe/Brussels:20240801T020000
DTSTAMP:20260423T095202
CREATED:20240601T134825Z
LAST-MODIFIED:20240601T135215Z
UID:6073-1722474000-1722477600@clustermusic.be
SUMMARY:Snaarmaarwaar
DESCRIPTION:
URL:https://clustermusic.be/nl/agenda/snaarmaarwaar-8-2-2-2/
LOCATION:Gennetines\, Frankrijk
CATEGORIES:Maarten Decombel
END:VEVENT
BEGIN:VEVENT
DTSTART;TZID=Europe/Brussels:20240804T153000
DTEND;TZID=Europe/Brussels:20240804T163000
DTSTAMP:20260423T095202
CREATED:20240601T133852Z
LAST-MODIFIED:20240601T134026Z
UID:6053-1722785400-1722789000@clustermusic.be
SUMMARY:Spilar
DESCRIPTION:
URL:https://clustermusic.be/nl/agenda/spilar-5-2/
LOCATION:Dranouter festival\, Dranouter\, België
CATEGORIES:Maarten Decombel
END:VEVENT
BEGIN:VEVENT
DTSTART;TZID=Europe/Brussels:20240819T200000
DTEND;TZID=Europe/Brussels:20240819T220000
DTSTAMP:20260423T095202
CREATED:20240119T155113Z
LAST-MODIFIED:20240422T142406Z
UID:5570-1724097600-1724104800@clustermusic.be
SUMMARY:MANdolinMAN
DESCRIPTION:Concert – Quartet
URL:https://clustermusic.be/nl/agenda/mandolinman-9/
LOCATION:Gooik
CATEGORIES:Maarten Decombel
END:VEVENT
BEGIN:VEVENT
DTSTART;TZID=Europe/Brussels:20240830T200000
DTEND;TZID=Europe/Brussels:20240830T210000
DTSTAMP:20260423T095202
CREATED:20240601T133852Z
LAST-MODIFIED:20240601T134138Z
UID:6055-1725048000-1725051600@clustermusic.be
SUMMARY:Spilar
DESCRIPTION:
URL:https://clustermusic.be/nl/agenda/spilar-5-2-2/
LOCATION:Kloostertuinconcerten\, Wevelgem\, België
CATEGORIES:Maarten Decombel
END:VEVENT
BEGIN:VEVENT
DTSTART;TZID=Europe/Brussels:20240908T190000
DTEND;TZID=Europe/Brussels:20240908T210000
DTSTAMP:20260423T095202
CREATED:20240601T134825Z
LAST-MODIFIED:20240601T135426Z
UID:6075-1725822000-1725829200@clustermusic.be
SUMMARY:Snaarmaarwaar
DESCRIPTION:
URL:https://clustermusic.be/nl/agenda/snaarmaarwaar-8-2-2-2-2/
LOCATION:Wageningen Junushoff\, Nederland
CATEGORIES:Maarten Decombel
END:VEVENT
BEGIN:VEVENT
DTSTART;TZID=Europe/Brussels:20240919T200000
DTEND;TZID=Europe/Brussels:20240919T220000
DTSTAMP:20260423T095202
CREATED:20240119T155226Z
LAST-MODIFIED:20240422T142752Z
UID:5575-1726776000-1726783200@clustermusic.be
SUMMARY:Naragonia Quartet
DESCRIPTION:CD voorstelling
URL:https://clustermusic.be/nl/agenda/naragonia-quartet-13/
LOCATION:Amsterdam\, Netherlands
CATEGORIES:Maarten Decombel
END:VEVENT
BEGIN:VEVENT
DTSTART;TZID=Europe/Brussels:20240920T200000
DTEND;TZID=Europe/Brussels:20240920T220000
DTSTAMP:20260423T095202
CREATED:20240119T155358Z
LAST-MODIFIED:20240422T142714Z
UID:5579-1726862400-1726869600@clustermusic.be
SUMMARY:Naragonia Quartet
DESCRIPTION:Ol Da Folk/cd voorstelling
URL:https://clustermusic.be/nl/agenda/naragonia-quartet-14/
LOCATION:Brugge
CATEGORIES:Maarten Decombel
END:VEVENT
BEGIN:VEVENT
DTSTART;TZID=Europe/Brussels:20241017T200000
DTEND;TZID=Europe/Brussels:20241017T210000
DTSTAMP:20260423T095202
CREATED:20240601T133852Z
LAST-MODIFIED:20240601T134304Z
UID:6058-1729195200-1729198800@clustermusic.be
SUMMARY:Spilar
DESCRIPTION:
URL:https://clustermusic.be/nl/agenda/spilar-5-2-2-2/
LOCATION:Holsbeek sessies\, Holsbeek\, België
CATEGORIES:Maarten Decombel
END:VEVENT
BEGIN:VEVENT
DTSTART;TZID=Europe/Brussels:20241115T200000
DTEND;TZID=Europe/Brussels:20241115T213000
DTSTAMP:20260423T095202
CREATED:20240601T200522Z
LAST-MODIFIED:20240601T200522Z
UID:6093-1731700800-1731706200@clustermusic.be
SUMMARY:Sauvage
DESCRIPTION:LE PROJET « Sauvage » est en lui même un défi\, il s’attache à un sujet délicat et passionnant\, une des musiques les plus mélodiques qui soient\, gravée de fait dans nos mémoires\, celle de Jean Philippe Rameau\, intimidant symbole du classicisme français.
URL:https://clustermusic.be/nl/agenda/sauvage-6/
LOCATION:Jazz Nevers\, Nevers\, Frankrijk
CATEGORIES:Maarten Decombel
END:VEVENT
BEGIN:VEVENT
DTSTART;VALUE=DATE:20241122
DTEND;VALUE=DATE:20241123
DTSTAMP:20260423T095202
CREATED:20240119T155510Z
LAST-MODIFIED:20240422T142632Z
UID:5583-1732233600-1732319999@clustermusic.be
SUMMARY:Folk Ensemble Workshop
DESCRIPTION:Pipenbock stage
URL:https://clustermusic.be/nl/agenda/folk-ensemble-workshop/
LOCATION:Wittenburg\, Duitsland
CATEGORIES:Maarten Decombel
END:VEVENT
BEGIN:VEVENT
DTSTART;VALUE=DATE:20241123
DTEND;VALUE=DATE:20241124
DTSTAMP:20260423T095202
CREATED:20240119T155610Z
LAST-MODIFIED:20240422T142600Z
UID:5587-1732320000-1732406399@clustermusic.be
SUMMARY:Folk Ensemble Workshop
DESCRIPTION:Pipenbock Stage
URL:https://clustermusic.be/nl/agenda/folk-ensemble-workshop-2/
LOCATION:Wittenburg\, Duitsland
CATEGORIES:Maarten Decombel
END:VEVENT
BEGIN:VEVENT
DTSTART;VALUE=DATE:20241124
DTEND;VALUE=DATE:20241125
DTSTAMP:20260423T095202
CREATED:20240119T155701Z
LAST-MODIFIED:20240422T142532Z
UID:5590-1732406400-1732492799@clustermusic.be
SUMMARY:Folk Ensemble Workshop
DESCRIPTION:Pipenbock Stage
URL:https://clustermusic.be/nl/agenda/folk-ensemble-workshop-3/
LOCATION:Wittenburg\, Duitsland
CATEGORIES:Maarten Decombel
END:VEVENT
BEGIN:VEVENT
DTSTART;TZID=Europe/Brussels:20241221T200000
DTEND;TZID=Europe/Brussels:20241221T213000
DTSTAMP:20260423T095202
CREATED:20240601T133852Z
LAST-MODIFIED:20240601T134445Z
UID:6061-1734811200-1734816600@clustermusic.be
SUMMARY:Spilar
DESCRIPTION:
URL:https://clustermusic.be/nl/agenda/spilar-5-2-2-2-2/
LOCATION:CC De Ploter\, Ternat\, België
CATEGORIES:Maarten Decombel
END:VEVENT
BEGIN:VEVENT
DTSTART;TZID=Europe/Brussels:20250127T200000
DTEND;TZID=Europe/Brussels:20250127T200000
DTSTAMP:20260423T095202
CREATED:20240601T134825Z
LAST-MODIFIED:20250130T105030Z
UID:7420-1738008000-1738008000@clustermusic.be
SUMMARY:Snaarmaarwaar
DESCRIPTION:Flanders Folk Awards 2025
URL:https://clustermusic.be/nl/agenda/snaarmaarwaar-25-1/
LOCATION:Ancienne Belgique\, Anspachlaan 110\, Brussel\, 1000
CATEGORIES:Maarten Decombel
END:VEVENT
BEGIN:VEVENT
DTSTART;TZID=Europe/Brussels:20250131T190000
DTEND;TZID=Europe/Brussels:20250131T210000
DTSTAMP:20260423T095202
CREATED:20240601T134825Z
LAST-MODIFIED:20250130T104519Z
UID:6078-1738350000-1738357200@clustermusic.be
SUMMARY:Snaarmaarwaar
DESCRIPTION:
URL:https://clustermusic.be/nl/agenda/snaarmaarwaar-25-2/
LOCATION:GC De Wildeman\, Herent\, België
CATEGORIES:Maarten Decombel
END:VEVENT
BEGIN:VEVENT
DTSTART;TZID=Europe/Brussels:20250201T203000
DTEND;TZID=Europe/Brussels:20250201T233000
DTSTAMP:20260423T095202
CREATED:20240601T134825Z
LAST-MODIFIED:20250130T104504Z
UID:7412-1738441800-1738452600@clustermusic.be
SUMMARY:Snaarmaarwaar
DESCRIPTION:
URL:https://clustermusic.be/nl/agenda/snaarmaarwaar-25-3/
LOCATION:Le Bal à Gaston\, Meung-sur-loire\, France
CATEGORIES:Maarten Decombel
END:VEVENT
BEGIN:VEVENT
DTSTART;TZID=Europe/Brussels:20250223T170000
DTEND;TZID=Europe/Brussels:20250223T170000
DTSTAMP:20260423T095202
CREATED:20240601T134825Z
LAST-MODIFIED:20250130T104734Z
UID:7415-1740330000-1740330000@clustermusic.be
SUMMARY:Snaarmaarwaar
DESCRIPTION:
URL:https://clustermusic.be/nl/agenda/snaarmaarwaar-25-4/
LOCATION:Balhalla Festival\, Sint-Salvatorstraat 18a\, Gent\, 9000\, Belgium
CATEGORIES:Maarten Decombel
END:VEVENT
BEGIN:VEVENT
DTSTART;TZID=Europe/Brussels:20250228T200000
DTEND;TZID=Europe/Brussels:20250228T210000
DTSTAMP:20260423T095202
CREATED:20250314T101846Z
LAST-MODIFIED:20250314T101846Z
UID:7712-1740772800-1740776400@clustermusic.be
SUMMARY:MANdolinMAN
DESCRIPTION:
URL:https://clustermusic.be/nl/agenda/mandolinman-10/
LOCATION:De Centrale\, Kraankindersstraat 2\, Gent\, 9000\, Belgium
CATEGORIES:Maarten Decombel
END:VEVENT
BEGIN:VEVENT
DTSTART;TZID=Europe/Brussels:20250301T200000
DTEND;TZID=Europe/Brussels:20250301T200000
DTSTAMP:20260423T095202
CREATED:20240601T134825Z
LAST-MODIFIED:20250130T105351Z
UID:7426-1740859200-1740859200@clustermusic.be
SUMMARY:Snaarmaarwaar
DESCRIPTION:
URL:https://clustermusic.be/nl/agenda/snaarmaarwaar-25-5/
LOCATION:Bonn\, Bonn\, Germany
CATEGORIES:Maarten Decombel
END:VEVENT
END:VCALENDAR