BEGIN:VCALENDAR
VERSION:2.0
PRODID:-//Cluster Music - ECPv6.15.13//NONSGML v1.0//EN
CALSCALE:GREGORIAN
METHOD:PUBLISH
X-ORIGINAL-URL:https://clustermusic.be/nl
X-WR-CALDESC:Evenementen voor Cluster Music
REFRESH-INTERVAL;VALUE=DURATION:PT1H
X-Robots-Tag:noindex
X-PUBLISHED-TTL:PT1H
BEGIN:VTIMEZONE
TZID:UTC
BEGIN:STANDARD
TZOFFSETFROM:+0000
TZOFFSETTO:+0000
TZNAME:UTC
DTSTART:20220101T000000
END:STANDARD
END:VTIMEZONE
BEGIN:VTIMEZONE
TZID:Europe/Amsterdam
BEGIN:DAYLIGHT
TZOFFSETFROM:+0100
TZOFFSETTO:+0200
TZNAME:CEST
DTSTART:20220327T010000
END:DAYLIGHT
BEGIN:STANDARD
TZOFFSETFROM:+0200
TZOFFSETTO:+0100
TZNAME:CET
DTSTART:20221030T010000
END:STANDARD
BEGIN:DAYLIGHT
TZOFFSETFROM:+0100
TZOFFSETTO:+0200
TZNAME:CEST
DTSTART:20230326T010000
END:DAYLIGHT
BEGIN:STANDARD
TZOFFSETFROM:+0200
TZOFFSETTO:+0100
TZNAME:CET
DTSTART:20231029T010000
END:STANDARD
BEGIN:DAYLIGHT
TZOFFSETFROM:+0100
TZOFFSETTO:+0200
TZNAME:CEST
DTSTART:20240331T010000
END:DAYLIGHT
BEGIN:STANDARD
TZOFFSETFROM:+0200
TZOFFSETTO:+0100
TZNAME:CET
DTSTART:20241027T010000
END:STANDARD
END:VTIMEZONE
BEGIN:VTIMEZONE
TZID:Europe/Brussels
BEGIN:DAYLIGHT
TZOFFSETFROM:+0100
TZOFFSETTO:+0200
TZNAME:CEST
DTSTART:20230326T010000
END:DAYLIGHT
BEGIN:STANDARD
TZOFFSETFROM:+0200
TZOFFSETTO:+0100
TZNAME:CET
DTSTART:20231029T010000
END:STANDARD
BEGIN:DAYLIGHT
TZOFFSETFROM:+0100
TZOFFSETTO:+0200
TZNAME:CEST
DTSTART:20240331T010000
END:DAYLIGHT
BEGIN:STANDARD
TZOFFSETFROM:+0200
TZOFFSETTO:+0100
TZNAME:CET
DTSTART:20241027T010000
END:STANDARD
BEGIN:DAYLIGHT
TZOFFSETFROM:+0100
TZOFFSETTO:+0200
TZNAME:CEST
DTSTART:20250330T010000
END:DAYLIGHT
BEGIN:STANDARD
TZOFFSETFROM:+0200
TZOFFSETTO:+0100
TZNAME:CET
DTSTART:20251026T010000
END:STANDARD
BEGIN:DAYLIGHT
TZOFFSETFROM:+0100
TZOFFSETTO:+0200
TZNAME:CEST
DTSTART:20260329T010000
END:DAYLIGHT
BEGIN:STANDARD
TZOFFSETFROM:+0200
TZOFFSETTO:+0100
TZNAME:CET
DTSTART:20261025T010000
END:STANDARD
END:VTIMEZONE
BEGIN:VEVENT
DTSTART;VALUE=DATE:20230920
DTEND;VALUE=DATE:20230921
DTSTAMP:20260421T153834
CREATED:20230327T162524Z
LAST-MODIFIED:20260123T152415Z
UID:2189-1695168000-1695254399@clustermusic.be
SUMMARY:Rumi Passion
DESCRIPTION:Een totaalervaring van muziek\, dans en poëzie\, rond de mystieke Perzische dichter Rumi.
URL:https://clustermusic.be/nl/agenda/rumi-passion/
LOCATION:Ha Concerts\, Gent\, Kouter 29\, Gent\, 9000\, Belgium
CATEGORIES:Osama Abdulrasol,Rumi Passion
ATTACH;FMTTYPE=image/png:https://clustermusic.be/wp-content/uploads/2023/06/Kopie-van-Cluster-logo-groen-CMYK-01.png
END:VEVENT
BEGIN:VEVENT
DTSTART;TZID=UTC:20231104T200000
DTEND;TZID=UTC:20231104T213000
DTSTAMP:20260421T153834
CREATED:20230327T162524Z
LAST-MODIFIED:20260123T152357Z
UID:4580-1699128000-1699133400@clustermusic.be
SUMMARY:Rumi Passion
DESCRIPTION:Een totaalervaring van muziek\, dans en poëzie\, rond de mystieke Perzische dichter Rumi.
URL:https://clustermusic.be/nl/agenda/rumi-passion-2/
LOCATION:cc Het Bolwerk\, Bolwerkstraat 17\, Vilvoorde\, 1800\, Belgium
CATEGORIES:Osama Abdulrasol,Rumi Passion
ATTACH;FMTTYPE=image/jpeg:https://clustermusic.be/wp-content/uploads/2023/08/new-flemisch-masters_optimized.jpg
END:VEVENT
BEGIN:VEVENT
DTSTART;TZID=Europe/Amsterdam:20231107T140000
DTEND;TZID=Europe/Amsterdam:20231107T150000
DTSTAMP:20260421T153834
CREATED:20230912T112758Z
LAST-MODIFIED:20231016T122504Z
UID:4597-1699365600-1699369200@clustermusic.be
SUMMARY:Het land van de lange lepels
DESCRIPTION:Arabische sprookjes in de Gemeentelijke schouwburg\, Willebroek
URL:https://clustermusic.be/nl/agenda/het-land-van-de-lange-lepels-2-5/
LOCATION:CC Willebroek\, CC Willebroek\, Willebroek\, Belgium
CATEGORIES:Osama Abdulrasol
ATTACH;FMTTYPE=image/jpeg:https://clustermusic.be/wp-content/uploads/2023/03/Cluster-Osama-Abdulrasol-1.jpg
END:VEVENT
BEGIN:VEVENT
DTSTART;TZID=Europe/Amsterdam:20231126T150000
DTEND;TZID=Europe/Amsterdam:20231126T163000
DTSTAMP:20260421T153834
CREATED:20230912T112758Z
LAST-MODIFIED:20231016T123338Z
UID:4595-1701010800-1701016200@clustermusic.be
SUMMARY:Het land van de lange lepels
DESCRIPTION:Arabische sprookjes
URL:https://clustermusic.be/nl/agenda/het-land-van-de-lange-lepels-2-3/
LOCATION:OC.Rookop\, Heuvelandseweg 1\, 8970 Reningelst
CATEGORIES:Osama Abdulrasol
ATTACH;FMTTYPE=image/jpeg:https://clustermusic.be/wp-content/uploads/2023/03/Cluster-Osama-Abdulrasol-1.jpg
END:VEVENT
BEGIN:VEVENT
DTSTART;TZID=Europe/Amsterdam:20231216T200000
DTEND;TZID=Europe/Amsterdam:20231216T213000
DTSTAMP:20260421T153834
CREATED:20230912T114109Z
LAST-MODIFIED:20260123T152348Z
UID:4615-1702756800-1702762200@clustermusic.be
SUMMARY:Rumi Passion
DESCRIPTION:Een totaalervaring van muziek\, dans en poëzie\, rond de mystieke Perzische dichter Rumi.
URL:https://clustermusic.be/nl/agenda/rumi-passion-3/
LOCATION:CC Sint-Niklaas – Stadsschouwburg\, Paul Snoekstraat 1\, Sint-Niklaas\, 9100\, Belgium
CATEGORIES:Osama Abdulrasol,Rumi Passion
ATTACH;FMTTYPE=image/jpeg:https://clustermusic.be/wp-content/uploads/2023/08/new-flemisch-masters_optimized.jpg
END:VEVENT
BEGIN:VEVENT
DTSTART;TZID=Europe/Brussels:20240803T180000
DTEND;TZID=Europe/Brussels:20240803T190000
DTSTAMP:20260421T153834
CREATED:20240422T140922Z
LAST-MODIFIED:20240422T140922Z
UID:5980-1722708000-1722711600@clustermusic.be
SUMMARY:New Flemish Masters
DESCRIPTION:
URL:https://clustermusic.be/nl/agenda/new-flemish-masters/
LOCATION:Dranouter festival\, Dranouter\, België
CATEGORIES:Osama Abdulrasol
END:VEVENT
BEGIN:VEVENT
DTSTART;TZID=Europe/Brussels:20241102T201500
DTEND;TZID=Europe/Brussels:20241102T220000
DTSTAMP:20260421T153834
CREATED:20240422T125828Z
LAST-MODIFIED:20241003T085534Z
UID:5928-1730578500-1730584800@clustermusic.be
SUMMARY:Rumi Passion
DESCRIPTION:Een totaalervaring van muziek\, dans en poëzie\, rond de mystieke Perzische dichter Rumi.
URL:https://clustermusic.be/nl/agenda/rumi-passion-4/
LOCATION:CC De Warande\, Warandestraat 42\, Turnhout\, 2300\, Belgium
CATEGORIES:Osama Abdulrasol,Rumi Passion
END:VEVENT
BEGIN:VEVENT
DTSTART;TZID=Europe/Brussels:20241103T200000
DTEND;TZID=Europe/Brussels:20241103T220000
DTSTAMP:20260421T153834
CREATED:20240422T131405Z
LAST-MODIFIED:20241003T085642Z
UID:5941-1730664000-1730671200@clustermusic.be
SUMMARY:Rumi Passion
DESCRIPTION:Een totaalervaring van muziek\, dans en poëzie\, rond de mystieke Perzische dichter Rumi.
URL:https://clustermusic.be/nl/agenda/rumi-passion-5/
LOCATION:30 CC – Stadsschouwburg\, Bondgenotenlaan 21\, Leuven\, 3000\, Belgium
CATEGORIES:Osama Abdulrasol,Rumi Passion
END:VEVENT
BEGIN:VEVENT
DTSTART;TZID=Europe/Brussels:20241113T200000
DTEND;TZID=Europe/Brussels:20241113T220000
DTSTAMP:20260421T153834
CREATED:20240603T115322Z
LAST-MODIFIED:20240603T130931Z
UID:6112-1731528000-1731535200@clustermusic.be
SUMMARY:Barzakh
DESCRIPTION:Een opera van Thomas Bellinck en Osama Abdulrasol\, i.s.m. personen in detentie in de arresthuizen van Antwerpen en Gent.
URL:https://clustermusic.be/nl/agenda/barzakh-2-2-2-2-2/
LOCATION:Opera Gent\, Schouwburgstraat 3\, Gent\, 9000\, België
CATEGORIES:Osama Abdulrasol
END:VEVENT
BEGIN:VEVENT
DTSTART;TZID=Europe/Brussels:20241114T200000
DTEND;TZID=Europe/Brussels:20241114T220000
DTSTAMP:20260421T153834
CREATED:20240603T115322Z
LAST-MODIFIED:20240603T131141Z
UID:6098-1731614400-1731621600@clustermusic.be
SUMMARY:Barzakh
DESCRIPTION:Een opera van Thomas Bellinck en Osama Abdulrasol\, i.s.m. personen in detentie in de arresthuizen van Antwerpen en Gent.
URL:https://clustermusic.be/nl/agenda/barzakh-2/
LOCATION:Opera Gent\, Schouwburgstraat 3\, Gent\, 9000\, België
CATEGORIES:Osama Abdulrasol
END:VEVENT
BEGIN:VEVENT
DTSTART;TZID=Europe/Brussels:20241115T200000
DTEND;TZID=Europe/Brussels:20241115T220000
DTSTAMP:20260421T153834
CREATED:20240603T115322Z
LAST-MODIFIED:20240603T131209Z
UID:6100-1731700800-1731708000@clustermusic.be
SUMMARY:Barzakh
DESCRIPTION:Een opera van Thomas Bellinck en Osama Abdulrasol\, i.s.m. personen in detentie in de arresthuizen van Antwerpen en Gent.
URL:https://clustermusic.be/nl/agenda/barzakh-2-2/
LOCATION:Opera Gent\, Schouwburgstraat 3\, Gent\, 9000\, België
CATEGORIES:Osama Abdulrasol
END:VEVENT
BEGIN:VEVENT
DTSTART;TZID=Europe/Brussels:20241116T200000
DTEND;TZID=Europe/Brussels:20241116T220000
DTSTAMP:20260421T153834
CREATED:20240603T115322Z
LAST-MODIFIED:20240603T131247Z
UID:6102-1731787200-1731794400@clustermusic.be
SUMMARY:Barzakh
DESCRIPTION:Een opera van Thomas Bellinck en Osama Abdulrasol\, i.s.m. personen in detentie in de arresthuizen van Antwerpen en Gent.
URL:https://clustermusic.be/nl/agenda/barzakh-2-2-2/
LOCATION:Opera Gent\, Schouwburgstraat 3\, Gent\, 9000\, België
CATEGORIES:Osama Abdulrasol
END:VEVENT
BEGIN:VEVENT
DTSTART;TZID=Europe/Brussels:20241117T200000
DTEND;TZID=Europe/Brussels:20241117T220000
DTSTAMP:20260421T153834
CREATED:20240603T115322Z
LAST-MODIFIED:20240603T130309Z
UID:6104-1731873600-1731880800@clustermusic.be
SUMMARY:Barzakh
DESCRIPTION:Een opera van Thomas Bellinck en Osama Abdulrasol\, i.s.m. personen in detentie in de arresthuizen van Antwerpen en Gent.
URL:https://clustermusic.be/nl/agenda/barzakh-2-2-2-2/
LOCATION:Opera Gent\, Schouwburgstraat 3\, Gent\, 9000\, België
CATEGORIES:Osama Abdulrasol
END:VEVENT
BEGIN:VEVENT
DTSTART;TZID=Europe/Brussels:20241129T200000
DTEND;TZID=Europe/Brussels:20241129T220000
DTSTAMP:20260421T153834
CREATED:20240422T132124Z
LAST-MODIFIED:20241003T085959Z
UID:5946-1732910400-1732917600@clustermusic.be
SUMMARY:Rumi Passion
DESCRIPTION:Een totaalervaring van muziek\, dans en poëzie\, rond de mystieke Perzische dichter Rumi.
URL:https://clustermusic.be/nl/agenda/rumi-passion-6/
LOCATION:C o r s o\, Driekoningenstraat 126\, Berchem\, 2600\, Belgium
CATEGORIES:Osama Abdulrasol,Rumi Passion
END:VEVENT
BEGIN:VEVENT
DTSTART;TZID=Europe/Brussels:20241130T200000
DTEND;TZID=Europe/Brussels:20241130T214000
DTSTAMP:20260421T153834
CREATED:20240422T132801Z
LAST-MODIFIED:20241003T090227Z
UID:5949-1732996800-1733002800@clustermusic.be
SUMMARY:Rumi Passion
DESCRIPTION:Een totaalervaring van muziek\, dans en poëzie\, rond de mystieke Perzische dichter Rumi.
URL:https://clustermusic.be/nl/agenda/rumi-passion-7/
LOCATION:CC Nova\, Molenstraat 2b\, Wetteren\, 9230\, Belgium
CATEGORIES:Osama Abdulrasol,Rumi Passion
END:VEVENT
BEGIN:VEVENT
DTSTART;TZID=Europe/Brussels:20241213T200000
DTEND;TZID=Europe/Brussels:20241213T220000
DTSTAMP:20260421T153834
CREATED:20240422T133008Z
LAST-MODIFIED:20260123T151735Z
UID:5953-1734120000-1734127200@clustermusic.be
SUMMARY:Rumi Passion
DESCRIPTION:Een totaalervaring van muziek\, dans en poëzie\, rond de mystieke Perzische dichter Rumi.
URL:https://clustermusic.be/nl/agenda/rumi-passion-8/
LOCATION:De Centrale\, Kraankindersstraat 2\, Gent\, 9000\, Belgium
CATEGORIES:Osama Abdulrasol,Rumi Passion
END:VEVENT
BEGIN:VEVENT
DTSTART;TZID=Europe/Brussels:20241214T200000
DTEND;TZID=Europe/Brussels:20241214T220000
DTSTAMP:20260421T153834
CREATED:20240422T133008Z
LAST-MODIFIED:20260123T151834Z
UID:5955-1734206400-1734213600@clustermusic.be
SUMMARY:Rumi Passion
DESCRIPTION:Een totaalervaring van muziek\, dans en poëzie\, rond de mystieke Perzische dichter Rumi.
URL:https://clustermusic.be/nl/agenda/rumi-passion-8-2/
LOCATION:De Centrale\, Kraankindersstraat 2\, Gent\, 9000\, Belgium
CATEGORIES:Osama Abdulrasol,Rumi Passion
END:VEVENT
BEGIN:VEVENT
DTSTART;VALUE=DATE:20241215
DTEND;VALUE=DATE:20241216
DTSTAMP:20260421T153834
CREATED:20240422T133735Z
LAST-MODIFIED:20241003T083446Z
UID:6517-1734220800-1734307199@clustermusic.be
SUMMARY:Rumi Passion
DESCRIPTION:Een totaalervaring van muziek\, dans en poëzie\, rond de mystieke Perzische dichter Rumi.
URL:https://clustermusic.be/nl/agenda/rumi-passion-13/
LOCATION:Budascoop\, Kapucijnenstraat 10\, Kortrijk\, 8500\, Belgium
CATEGORIES:Osama Abdulrasol,Rumi Passion
END:VEVENT
BEGIN:VEVENT
DTSTART;TZID=Europe/Brussels:20241221T200000
DTEND;TZID=Europe/Brussels:20241221T220000
DTSTAMP:20260421T153834
CREATED:20240422T133317Z
LAST-MODIFIED:20241003T091055Z
UID:5959-1734811200-1734818400@clustermusic.be
SUMMARY:Rumi Passion
DESCRIPTION:Een totaalervaring van muziek\, dans en poëzie\, rond de mystieke Perzische dichter Rumi.
URL:https://clustermusic.be/nl/agenda/rumi-passion-9/
LOCATION:CC Zwaneberg\, Cultuurplein 1\, Heist-op-den-Berg\, 2220\, Belgium
CATEGORIES:Osama Abdulrasol,Rumi Passion
END:VEVENT
BEGIN:VEVENT
DTSTART;VALUE=DATE:20250115
DTEND;VALUE=DATE:20250116
DTSTAMP:20260421T153834
CREATED:20240422T133510Z
LAST-MODIFIED:20241003T083800Z
UID:5963-1736899200-1736985599@clustermusic.be
SUMMARY:Rumi Passion
DESCRIPTION:Een totaalervaring van muziek\, dans en poëzie\, rond de mystieke Perzische dichter Rumi.
URL:https://clustermusic.be/nl/agenda/rumi-passion-10/
LOCATION:CC Westrand\, Kamerijklaan 46\, Dilbeek\, 1700\, Belgium
CATEGORIES:Osama Abdulrasol,Rumi Passion
END:VEVENT
BEGIN:VEVENT
DTSTART;TZID=Europe/Brussels:20250123T200000
DTEND;TZID=Europe/Brussels:20250123T220000
DTSTAMP:20260421T153834
CREATED:20240422T133735Z
LAST-MODIFIED:20241003T091636Z
UID:5967-1737662400-1737669600@clustermusic.be
SUMMARY:Rumi Passion
DESCRIPTION:Een totaalervaring van muziek\, dans en poëzie\, rond de mystieke Perzische dichter Rumi.
URL:https://clustermusic.be/nl/agenda/rumi-passion-11/
LOCATION:Club Kalmthout – Kerktheater\, Sint-Jozeflaan 4\, Kalmthout\, 2920\, Belgium
CATEGORIES:Osama Abdulrasol,Rumi Passion
END:VEVENT
BEGIN:VEVENT
DTSTART;TZID=Europe/Brussels:20250125T201500
DTEND;TZID=Europe/Brussels:20250125T220000
DTSTAMP:20260421T153834
CREATED:20240603T125634Z
LAST-MODIFIED:20240603T130028Z
UID:6106-1737836100-1737842400@clustermusic.be
SUMMARY:Global Music Ensemble
DESCRIPTION:Een muzikale reis zonder grenzen. \nMet MOTYK\, Troissoeur\, Osama Abdulrasol (quanun)\, Tsubasa Hori (taiko drums)\, Jeroen Goossens (fluiten\, fagot)\, Simon Leleux (percussie)
URL:https://clustermusic.be/nl/agenda/global-music-ensemble/
LOCATION:Evenementenzaal Ridefort\, Sportstraat 2\, Ruddervoorde (Oostkamp)\, België
CATEGORIES:Global Music Ensemble,Joris Vanvinckenroye,Osama Abdulrasol
END:VEVENT
BEGIN:VEVENT
DTSTART;TZID=Europe/Brussels:20250131T200000
DTEND;TZID=Europe/Brussels:20250131T220000
DTSTAMP:20260421T153834
CREATED:20240603T125634Z
LAST-MODIFIED:20240603T134319Z
UID:6108-1738353600-1738360800@clustermusic.be
SUMMARY:Global Music Ensemble
DESCRIPTION:Een muzikale reis zonder grenzen. \nMet MOTYK\, Troissoeur\, Osama Abdulrasol (quanun)\, Tsubasa Hori (taiko drums)\, Jeroen Goossens (fluiten\, fagot)\, Simon Leleux (percussie)
URL:https://clustermusic.be/nl/agenda/global-music-ensemble-2/
LOCATION:CC Zwaneberg\, Cultuurplein 1\, Heist-op-den-Berg\, 2220\, Belgium
CATEGORIES:Global Music Ensemble,Joris Vanvinckenroye,Osama Abdulrasol
END:VEVENT
BEGIN:VEVENT
DTSTART;TZID=Europe/Brussels:20250529T200000
DTEND;TZID=Europe/Brussels:20250529T220000
DTSTAMP:20260421T153834
CREATED:20240603T125634Z
LAST-MODIFIED:20250320T104539Z
UID:7756-1748548800-1748556000@clustermusic.be
SUMMARY:Global Music Ensemble
DESCRIPTION:Een muzikale reis zonder grenzen. Met MOTYK\, Troissoeur\, Osama Abdulrasol (quanun)\, Tsubasa Hori (taiko drums)\, Jeroen Goossens (fluiten\, fagot)\, Simon Leleux (percussie)
URL:https://clustermusic.be/nl/agenda/global-music-ensemble-3/
LOCATION:Merodefestival\, Diest\, Belgium
CATEGORIES:Global Music Ensemble,Joris Vanvinckenroye,Osama Abdulrasol
END:VEVENT
BEGIN:VEVENT
DTSTART;TZID=Europe/Brussels:20251128T200000
DTEND;TZID=Europe/Brussels:20251128T220000
DTSTAMP:20260421T153834
CREATED:20240422T133735Z
LAST-MODIFIED:20251111T152712Z
UID:7328-1764360000-1764367200@clustermusic.be
SUMMARY:Rumi Passion
DESCRIPTION:Een totaalervaring van muziek\, dans en poëzie\, rond de mystieke Perzische dichter Rumi.
URL:https://clustermusic.be/nl/agenda/rumi-passion-15/
LOCATION:Concertgebouw Brugge\, ' Zand\, Brugge\, 8000\, België
CATEGORIES:Osama Abdulrasol,Rumi Passion
ATTACH;FMTTYPE=image/jpeg:https://clustermusic.be/wp-content/uploads/2023/09/20230920-Rumi-Passion-c-Geert-Vandepoele-8112.jpg
END:VEVENT
BEGIN:VEVENT
DTSTART;TZID=Europe/Brussels:20251207T201500
DTEND;TZID=Europe/Brussels:20251207T220000
DTSTAMP:20260421T153834
CREATED:20240422T133735Z
LAST-MODIFIED:20251111T152911Z
UID:7330-1765138500-1765144800@clustermusic.be
SUMMARY:Rumi Passion
DESCRIPTION:Een totaalervaring van muziek\, dans en poëzie\, rond de mystieke Perzische dichter Rumi.
URL:https://clustermusic.be/nl/agenda/rumi-passion-16/
LOCATION:CC De Steiger\, Waalvest 1\, Menen\, 8930\, Belgium
CATEGORIES:Osama Abdulrasol,Rumi Passion
ATTACH;FMTTYPE=image/jpeg:https://clustermusic.be/wp-content/uploads/2023/09/2024.11.02-Rumi-Passion-c-Bart-Van-der-Moeren-De-Warande-11-scaled.jpg
END:VEVENT
BEGIN:VEVENT
DTSTART;TZID=Europe/Brussels:20251210T200000
DTEND;TZID=Europe/Brussels:20251210T214500
DTSTAMP:20260421T153834
CREATED:20240603T115322Z
LAST-MODIFIED:20250815T093630Z
UID:8919-1765396800-1765403100@clustermusic.be
SUMMARY:Barzakh
DESCRIPTION:Opera van Thomas Bellinck en Osama Abdulrasol\, i.s.m. personen in detentie in de arresthuizen van Antwerpen en Gent. Barzakh stelt vragen bij de wereldbeelden die uit opera’s voortvloeien en werpt een kritische blik op het gevangeniswezen.
URL:https://clustermusic.be/nl/agenda/barzakh-25-1/
LOCATION:Opera Antwerpen\, Frankrijklei 3\, Antwerpen\, 2000\, Belgium
CATEGORIES:Osama Abdulrasol
ATTACH;FMTTYPE=image/jpeg:https://clustermusic.be/wp-content/uploads/2024/06/Barzakh-©-Opera-Ballet-Vlaanderen-Laura-Van-Severen.jpg
END:VEVENT
BEGIN:VEVENT
DTSTART;TZID=Europe/Brussels:20251212T200000
DTEND;TZID=Europe/Brussels:20251212T214500
DTSTAMP:20260421T153834
CREATED:20240603T115322Z
LAST-MODIFIED:20250815T095415Z
UID:8925-1765569600-1765575900@clustermusic.be
SUMMARY:Barzakh
DESCRIPTION:Opera van Thomas Bellinck en Osama Abdulrasol\, i.s.m. personen in detentie in de arresthuizen van Antwerpen en Gent. Barzakh stelt vragen bij de wereldbeelden die uit opera’s voortvloeien en werpt een kritische blik op het gevangeniswezen.
URL:https://clustermusic.be/nl/agenda/barzakh-25-2/
LOCATION:Opera Antwerpen\, Frankrijklei 3\, Antwerpen\, 2000\, Belgium
CATEGORIES:Osama Abdulrasol
ATTACH;FMTTYPE=image/jpeg:https://clustermusic.be/wp-content/uploads/2024/06/Barzakh-©-Opera-Ballet-Vlaanderen-Laura-Van-Severen.jpg
END:VEVENT
BEGIN:VEVENT
DTSTART;TZID=Europe/Brussels:20251213T200000
DTEND;TZID=Europe/Brussels:20251213T214500
DTSTAMP:20260421T153834
CREATED:20240603T115322Z
LAST-MODIFIED:20250815T095441Z
UID:8928-1765656000-1765662300@clustermusic.be
SUMMARY:Barzakh
DESCRIPTION:Opera van Thomas Bellinck en Osama Abdulrasol\, i.s.m. personen in detentie in de arresthuizen van Antwerpen en Gent. Barzakh stelt vragen bij de wereldbeelden die uit opera’s voortvloeien en werpt een kritische blik op het gevangeniswezen.
URL:https://clustermusic.be/nl/agenda/barzakh-25-3/
LOCATION:Opera Antwerpen\, Frankrijklei 3\, Antwerpen\, 2000\, Belgium
CATEGORIES:Osama Abdulrasol
ATTACH;FMTTYPE=image/jpeg:https://clustermusic.be/wp-content/uploads/2024/06/Barzakh-©-Opera-Ballet-Vlaanderen-Laura-Van-Severen.jpg
END:VEVENT
BEGIN:VEVENT
DTSTART;TZID=Europe/Brussels:20251214T150000
DTEND;TZID=Europe/Brussels:20251214T164500
DTSTAMP:20260421T153834
CREATED:20240603T115322Z
LAST-MODIFIED:20250815T095522Z
UID:8931-1765724400-1765730700@clustermusic.be
SUMMARY:Barzakh
DESCRIPTION:Opera van Thomas Bellinck en Osama Abdulrasol\, i.s.m. personen in detentie in de arresthuizen van Antwerpen en Gent. Barzakh stelt vragen bij de wereldbeelden die uit opera’s voortvloeien en werpt een kritische blik op het gevangeniswezen.
URL:https://clustermusic.be/nl/agenda/barzakh-25-4/
LOCATION:Opera Antwerpen\, Frankrijklei 3\, Antwerpen\, 2000\, Belgium
CATEGORIES:Osama Abdulrasol
ATTACH;FMTTYPE=image/jpeg:https://clustermusic.be/wp-content/uploads/2024/06/Barzakh-©-Opera-Ballet-Vlaanderen-Laura-Van-Severen.jpg
END:VEVENT
END:VCALENDAR