BEGIN:VCALENDAR
VERSION:2.0
PRODID:-//Cluster Music - ECPv6.15.13//NONSGML v1.0//EN
CALSCALE:GREGORIAN
METHOD:PUBLISH
X-WR-CALNAME:Cluster Music
X-ORIGINAL-URL:https://clustermusic.be/nl
X-WR-CALDESC:Evenementen voor Cluster Music
REFRESH-INTERVAL;VALUE=DURATION:PT1H
X-Robots-Tag:noindex
X-PUBLISHED-TTL:PT1H
BEGIN:VTIMEZONE
TZID:Europe/Brussels
BEGIN:DAYLIGHT
TZOFFSETFROM:+0100
TZOFFSETTO:+0200
TZNAME:CEST
DTSTART:20240331T010000
END:DAYLIGHT
BEGIN:STANDARD
TZOFFSETFROM:+0200
TZOFFSETTO:+0100
TZNAME:CET
DTSTART:20241027T010000
END:STANDARD
BEGIN:DAYLIGHT
TZOFFSETFROM:+0100
TZOFFSETTO:+0200
TZNAME:CEST
DTSTART:20250330T010000
END:DAYLIGHT
BEGIN:STANDARD
TZOFFSETFROM:+0200
TZOFFSETTO:+0100
TZNAME:CET
DTSTART:20251026T010000
END:STANDARD
BEGIN:DAYLIGHT
TZOFFSETFROM:+0100
TZOFFSETTO:+0200
TZNAME:CEST
DTSTART:20260329T010000
END:DAYLIGHT
BEGIN:STANDARD
TZOFFSETFROM:+0200
TZOFFSETTO:+0100
TZNAME:CET
DTSTART:20261025T010000
END:STANDARD
END:VTIMEZONE
BEGIN:VEVENT
DTSTART;TZID=Europe/Brussels:20250523T200000
DTEND;TZID=Europe/Brussels:20250523T213000
DTSTAMP:20260422T153141
CREATED:20241229T093114Z
LAST-MODIFIED:20250417T082228Z
UID:7865-1748030400-1748035800@clustermusic.be
SUMMARY:Troissoeur
DESCRIPTION:Deze eigenzinnige\, expressieve\, anarchistische en theatrale elektro-akoestische band met een ijzersterke live reputatie ontstond ruim 25 jaar geleden uit de creatieve samenwerking van gitaarvirtuoos Pieter Thys met de multigetalenteerde broers Rein\, Edwin en Joris Vanvinckenroye.
URL:https://clustermusic.be/nl/agenda/troissoeur-7/
LOCATION:CC Het Gasthuis\, Gasthuisstraat 20-22\, Aarschot\, 3200
CATEGORIES:Joris Vanvinckenroye,Troissoeur
END:VEVENT
END:VCALENDAR