BEGIN:VCALENDAR
VERSION:2.0
PRODID:-//Cluster Music - ECPv6.15.13//NONSGML v1.0//EN
CALSCALE:GREGORIAN
METHOD:PUBLISH
X-ORIGINAL-URL:https://clustermusic.be/nl
X-WR-CALDESC:Evenementen voor Cluster Music
REFRESH-INTERVAL;VALUE=DURATION:PT1H
X-Robots-Tag:noindex
X-PUBLISHED-TTL:PT1H
BEGIN:VTIMEZONE
TZID:Europe/Brussels
BEGIN:DAYLIGHT
TZOFFSETFROM:+0100
TZOFFSETTO:+0200
TZNAME:CEST
DTSTART:20240331T010000
END:DAYLIGHT
BEGIN:STANDARD
TZOFFSETFROM:+0200
TZOFFSETTO:+0100
TZNAME:CET
DTSTART:20241027T010000
END:STANDARD
BEGIN:DAYLIGHT
TZOFFSETFROM:+0100
TZOFFSETTO:+0200
TZNAME:CEST
DTSTART:20250330T010000
END:DAYLIGHT
BEGIN:STANDARD
TZOFFSETFROM:+0200
TZOFFSETTO:+0100
TZNAME:CET
DTSTART:20251026T010000
END:STANDARD
BEGIN:DAYLIGHT
TZOFFSETFROM:+0100
TZOFFSETTO:+0200
TZNAME:CEST
DTSTART:20260329T010000
END:DAYLIGHT
BEGIN:STANDARD
TZOFFSETFROM:+0200
TZOFFSETTO:+0100
TZNAME:CET
DTSTART:20261025T010000
END:STANDARD
END:VTIMEZONE
BEGIN:VEVENT
DTSTART;TZID=Europe/Brussels:20250205T203000
DTEND;TZID=Europe/Brussels:20250205T220000
DTSTAMP:20260421T105241
CREATED:20250130T103755Z
LAST-MODIFIED:20250130T103843Z
UID:7408-1738787400-1738792800@clustermusic.be
SUMMARY:Bao Sissoko & Wouter Vandenabeele
DESCRIPTION:Living Room Music Winter Sessions
URL:https://clustermusic.be/nl/agenda/bao-sissoko-wouter-vandenabeele/
LOCATION:Chez Agata\, 32 Drève des Equipages\, Watermaal-Bosvoorde\, 1170\, Belgium
CATEGORIES:Wouter Vandenabeele
END:VEVENT
BEGIN:VEVENT
DTSTART;TZID=Europe/Brussels:20250215T200000
DTEND;TZID=Europe/Brussels:20250215T220000
DTSTAMP:20260421T105241
CREATED:20241003T095317Z
LAST-MODIFIED:20241003T095819Z
UID:6550-1739649600-1739656800@clustermusic.be
SUMMARY:Duo Vandenabeele-Knapen
DESCRIPTION:Gepokt en gemazeld binnen het folkmilieu\, maar steeds met een open blik naar andere horizonten richten Wouter Vandenabeele en Jeroen Knapen zich nog een keer naar de dansvloer. Toverend op hun viool en gitaar verleiden ze het publiek tot subtiele en energieke dansen.
URL:https://clustermusic.be/nl/agenda/duo-vandenabeele-knapen-4/
LOCATION:Ronse\, Ronse\, Belgium
CATEGORIES:Wouter Vandenabeele
END:VEVENT
BEGIN:VEVENT
DTSTART;TZID=Europe/Brussels:20250228T200000
DTEND;TZID=Europe/Brussels:20250228T220000
DTSTAMP:20260421T105241
CREATED:20240927T141407Z
LAST-MODIFIED:20250227T151652Z
UID:6489-1740772800-1740780000@clustermusic.be
SUMMARY:Brugges festival met GFVP\, Troissoeur\, The Chai Connection - UITVERKOCHT
DESCRIPTION:Bijna drie decennia lang organiseerde wijlen Jo Van Driessche jaarlijks Brugges Festival\, een van de oudste indoor wereldmuziekfestivals in België. Op 28 februari 2025 wordt het festival éénmalig georganiseerd in de Biekorf Theaterzaal. Op vraag van de artiesten brengen muzikanten uit binnen- en buitenland\, onder leiding van Wouter Vandenabeele\, een muzikaal eerbetoon aan de man die voor velen een cruciale rol speelde in hun carrière.
URL:https://clustermusic.be/nl/agenda/bruggesfestival2025/
LOCATION:Theaterzaal Biekorf\, Sint-Jakobsstraat 8\, Brugge\, 8000\, Belgium
CATEGORIES:GFVP,Joris Vanvinckenroye,The Chai Connection,Thomas Noël,Wouter Vandenabeele
END:VEVENT
END:VCALENDAR