BEGIN:VCALENDAR
VERSION:2.0
PRODID:-//Cluster Music - ECPv6.15.13//NONSGML v1.0//EN
CALSCALE:GREGORIAN
METHOD:PUBLISH
X-WR-CALNAME:Cluster Music
X-ORIGINAL-URL:https://clustermusic.be/nl
X-WR-CALDESC:Evenementen voor Cluster Music
REFRESH-INTERVAL;VALUE=DURATION:PT1H
X-Robots-Tag:noindex
X-PUBLISHED-TTL:PT1H
BEGIN:VTIMEZONE
TZID:Europe/Brussels
BEGIN:DAYLIGHT
TZOFFSETFROM:+0100
TZOFFSETTO:+0200
TZNAME:CEST
DTSTART:20230326T010000
END:DAYLIGHT
BEGIN:STANDARD
TZOFFSETFROM:+0200
TZOFFSETTO:+0100
TZNAME:CET
DTSTART:20231029T010000
END:STANDARD
BEGIN:DAYLIGHT
TZOFFSETFROM:+0100
TZOFFSETTO:+0200
TZNAME:CEST
DTSTART:20240331T010000
END:DAYLIGHT
BEGIN:STANDARD
TZOFFSETFROM:+0200
TZOFFSETTO:+0100
TZNAME:CET
DTSTART:20241027T010000
END:STANDARD
BEGIN:DAYLIGHT
TZOFFSETFROM:+0100
TZOFFSETTO:+0200
TZNAME:CEST
DTSTART:20250330T010000
END:DAYLIGHT
BEGIN:STANDARD
TZOFFSETFROM:+0200
TZOFFSETTO:+0100
TZNAME:CET
DTSTART:20251026T010000
END:STANDARD
BEGIN:DAYLIGHT
TZOFFSETFROM:+0100
TZOFFSETTO:+0200
TZNAME:CEST
DTSTART:20260329T010000
END:DAYLIGHT
BEGIN:STANDARD
TZOFFSETFROM:+0200
TZOFFSETTO:+0100
TZNAME:CET
DTSTART:20261025T010000
END:STANDARD
END:VTIMEZONE
BEGIN:VEVENT
DTSTART;TZID=Europe/Brussels:20240502T200000
DTEND;TZID=Europe/Brussels:20240502T213000
DTSTAMP:20260422T035134
CREATED:20231204T121128Z
LAST-MODIFIED:20240119T160644Z
UID:5356-1714680000-1714685400@clustermusic.be
SUMMARY:Hiraeth
DESCRIPTION:Searching for melancholy through the Balkan & Mediterranean.
URL:https://clustermusic.be/nl/agenda/hiraeth-7/
LOCATION:De Centrale\, Kraankindersstraat 2\, Gent\, 9000\, Belgium
CATEGORIES:Wouter Vandenabeele
END:VEVENT
BEGIN:VEVENT
DTSTART;TZID=Europe/Brussels:20240503T201500
DTEND;TZID=Europe/Brussels:20240503T214500
DTSTAMP:20260422T035134
CREATED:20231204T121645Z
LAST-MODIFIED:20231204T122142Z
UID:5358-1714767300-1714772700@clustermusic.be
SUMMARY:Hiraeth
DESCRIPTION:Searching for melancholy through the Balkan & Mediterranean.
URL:https://clustermusic.be/nl/agenda/hiraeth-8/
LOCATION:Schouwburg Noord\, Nieuwdreef 135\, Merksem\, 2170\, Belgium
CATEGORIES:Wouter Vandenabeele
END:VEVENT
BEGIN:VEVENT
DTSTART;TZID=Europe/Brussels:20240504T200000
DTEND;TZID=Europe/Brussels:20240504T213000
DTSTAMP:20260422T035134
CREATED:20231204T122009Z
LAST-MODIFIED:20231204T122009Z
UID:5362-1714852800-1714858200@clustermusic.be
SUMMARY:Hiraeth
DESCRIPTION:Searching for melancholy through the Balkan & Mediterranean
URL:https://clustermusic.be/nl/agenda/hiraeth-9/
LOCATION:CC De Factory\, Zaventem
CATEGORIES:Wouter Vandenabeele
END:VEVENT
BEGIN:VEVENT
DTSTART;TZID=Europe/Brussels:20240920T203000
DTEND;TZID=Europe/Brussels:20240920T220000
DTSTAMP:20260422T035134
CREATED:20240913T124511Z
LAST-MODIFIED:20240913T124511Z
UID:6353-1726864200-1726869600@clustermusic.be
SUMMARY:Chansons pour les oiseaux qui ne savent pas voler
DESCRIPTION:Met Chansons pour les oiseaux qui ne savent pas voler\, brengt Wouter Vandenabeele een vervolg op drie eerdere chansons-episodes\, samen met Bao Sissoko en Jeroen Knapen.
URL:https://clustermusic.be/nl/agenda/chansons-pour-les-oiseaux-qui-ne-savent-pas-voler/
LOCATION:’t Kerkske\, Kapelsestraat 182\, Kapellen\, 2950\, Belgium
CATEGORIES:Chansons,Wouter Vandenabeele
END:VEVENT
BEGIN:VEVENT
DTSTART;TZID=Europe/Brussels:20241007T100000
DTEND;TZID=Europe/Brussels:20241007T170000
DTSTAMP:20260422T035134
CREATED:20240418T092508Z
LAST-MODIFIED:20240920T110227Z
UID:5794-1728295200-1728320400@clustermusic.be
SUMMARY:Global Music Showcases
DESCRIPTION:Showcasedag in De Casino in Sint-Niklaas. \nEen dag waarin 9 Global music projecten worden voorgesteld aan programmatoren en professionelen binnen de cultuursector.
URL:https://clustermusic.be/nl/agenda/global-music-showcases/
LOCATION:De Casino\, Sint-Niklaas\, België
CATEGORIES:GFVP,Global Music Ensemble,The Napoli Sessions,Thomas Noël,Wouter Vandenabeele
END:VEVENT
BEGIN:VEVENT
DTSTART;TZID=Europe/Brussels:20241030T203000
DTEND;TZID=Europe/Brussels:20241030T220000
DTSTAMP:20260422T035134
CREATED:20240913T123939Z
LAST-MODIFIED:20240913T123939Z
UID:6350-1730320200-1730325600@clustermusic.be
SUMMARY:Tamala - Albumrelease Diboli
DESCRIPTION:De groep Tamala\, wat “reizigers” betekent\, doet zijn naam eer aan door de eindeloze mogelijkheden te verkennen van de samensmelting tussen kora\, viool\, zang en harmonica. Na jarenlange optredens op talloze podia in verschillende landen\, komt Tamala nu met hun derde album ‘Diboli’.
URL:https://clustermusic.be/nl/agenda/tamala-albumrelease-diboli/
LOCATION:Atelier210\, Sint-Pieterssteenweg 210\, Brussel\, 1040\, Belgium
CATEGORIES:Tamala,Wouter Vandenabeele
END:VEVENT
BEGIN:VEVENT
DTSTART;TZID=Europe/Brussels:20241122T200000
DTEND;TZID=Europe/Brussels:20241122T220000
DTSTAMP:20260422T035134
CREATED:20240913T123939Z
LAST-MODIFIED:20240913T123939Z
UID:6361-1732305600-1732312800@clustermusic.be
SUMMARY:Tamala
DESCRIPTION:De groep Tamala\, wat “reizigers” betekent\, doet zijn naam eer aan door de eindeloze mogelijkheden te verkennen van de samensmelting tussen kora\, viool\, zang en harmonica. Na jarenlange optredens op talloze podia in verschillende landen\, komt Tamala nu met hun derde album ‘Diboli’.
URL:https://clustermusic.be/nl/agenda/tamala-2/
LOCATION:CC Ter Vesten\, Gravenplein 2\, Beveren\, 9120\, Belgium
CATEGORIES:Tamala,Wouter Vandenabeele
END:VEVENT
BEGIN:VEVENT
DTSTART;TZID=Europe/Brussels:20241204T200000
DTEND;TZID=Europe/Brussels:20241204T220000
DTSTAMP:20260422T035134
CREATED:20240913T124511Z
LAST-MODIFIED:20240920T100220Z
UID:6406-1733342400-1733349600@clustermusic.be
SUMMARY:Chansons - tour China
DESCRIPTION:Chansons gaat op tour in China! Met Chansons pour les oiseaux qui ne savent pas voler\, brengt Wouter Vandenabeele een vervolg op drie eerdere chansons-episodes\, samen met Bao Sissoko en Jeroen Knapen.
URL:https://clustermusic.be/nl/agenda/chansons-china/
LOCATION:Peking University\, Beijing\, China
CATEGORIES:Chansons,Wouter Vandenabeele
END:VEVENT
BEGIN:VEVENT
DTSTART;TZID=Europe/Brussels:20241205T200000
DTEND;TZID=Europe/Brussels:20241205T220000
DTSTAMP:20260422T035134
CREATED:20240913T124511Z
LAST-MODIFIED:20240920T100457Z
UID:6411-1733428800-1733436000@clustermusic.be
SUMMARY:Chansons - tour China
DESCRIPTION:Chansons gaat op tour in China! Met Chansons pour les oiseaux qui ne savent pas voler\, brengt Wouter Vandenabeele een vervolg op drie eerdere chansons-episodes\, samen met Bao Sissoko en Jeroen Knapen.
URL:https://clustermusic.be/nl/agenda/chansons-china-2/
LOCATION:Tsinghua University\, Beijing\, China
CATEGORIES:Chansons,Wouter Vandenabeele
END:VEVENT
BEGIN:VEVENT
DTSTART;TZID=Europe/Brussels:20241206T200000
DTEND;TZID=Europe/Brussels:20241206T220000
DTSTAMP:20260422T035134
CREATED:20240913T124511Z
LAST-MODIFIED:20240920T100707Z
UID:6414-1733515200-1733522400@clustermusic.be
SUMMARY:Chansons - tour China
DESCRIPTION:Chansons gaat op tour in China! Met Chansons pour les oiseaux qui ne savent pas voler\, brengt Wouter Vandenabeele een vervolg op drie eerdere chansons-episodes\, samen met Bao Sissoko en Jeroen Knapen.
URL:https://clustermusic.be/nl/agenda/chansons-china-3/
LOCATION:Development Area Grand Theater\, Dalian\, China
CATEGORIES:Chansons,Wouter Vandenabeele
END:VEVENT
BEGIN:VEVENT
DTSTART;TZID=Europe/Brussels:20241207T200000
DTEND;TZID=Europe/Brussels:20241207T220000
DTSTAMP:20260422T035134
CREATED:20240913T124511Z
LAST-MODIFIED:20240920T100909Z
UID:6418-1733601600-1733608800@clustermusic.be
SUMMARY:Chansons - tour China
DESCRIPTION:Chansons gaat op tour in China! Met Chansons pour les oiseaux qui ne savent pas voler\, brengt Wouter Vandenabeele een vervolg op drie eerdere chansons-episodes\, samen met Bao Sissoko en Jeroen Knapen.
URL:https://clustermusic.be/nl/agenda/chansons-china-4/
LOCATION:Guotai Arts Center\, Chongqing\, China
CATEGORIES:Chansons,Wouter Vandenabeele
END:VEVENT
BEGIN:VEVENT
DTSTART;TZID=Europe/Brussels:20241208T200000
DTEND;TZID=Europe/Brussels:20241208T220000
DTSTAMP:20260422T035134
CREATED:20240913T124511Z
LAST-MODIFIED:20240920T101120Z
UID:6421-1733688000-1733695200@clustermusic.be
SUMMARY:Chansons - tour China
DESCRIPTION:Chansons gaat op tour in China! Met Chansons pour les oiseaux qui ne savent pas voler\, brengt Wouter Vandenabeele een vervolg op drie eerdere chansons-episodes\, samen met Bao Sissoko en Jeroen Knapen.
URL:https://clustermusic.be/nl/agenda/chansons-china-5/
LOCATION:City Concert Hall\, Chengdu\, China
CATEGORIES:Chansons,Wouter Vandenabeele
END:VEVENT
BEGIN:VEVENT
DTSTART;TZID=Europe/Brussels:20241211T203000
DTEND;TZID=Europe/Brussels:20241211T220000
DTSTAMP:20260422T035134
CREATED:20240913T123939Z
LAST-MODIFIED:20240913T125600Z
UID:6357-1733949000-1733954400@clustermusic.be
SUMMARY:Tamala
DESCRIPTION:De groep Tamala\, wat “reizigers” betekent\, doet zijn naam eer aan door de eindeloze mogelijkheden te verkennen van de samensmelting tussen kora\, viool\, zang en harmonica. Na jarenlange optredens op talloze podia in verschillende landen\, komt Tamala nu met hun derde album ‘Diboli’.
URL:https://clustermusic.be/nl/agenda/tamala/
LOCATION:cc Het Bolwerk\, Bolwerkstraat 17\, Vilvoorde\, 1800\, Belgium
CATEGORIES:Tamala,Wouter Vandenabeele
END:VEVENT
BEGIN:VEVENT
DTSTART;TZID=Europe/Brussels:20241230T200000
DTEND;TZID=Europe/Brussels:20241230T220000
DTSTAMP:20260422T035134
CREATED:20241003T095317Z
LAST-MODIFIED:20241003T095317Z
UID:6543-1735588800-1735596000@clustermusic.be
SUMMARY:Duo Vandenabeele-Knapen
DESCRIPTION:Gepokt en gemazeld binnen het folkmilieu\, maar steeds met een open blik naar andere horizonten richten Wouter Vandenabeele en Jeroen Knapen zich nog een keer naar de dansvloer. Toverend op hun viool en gitaar verleiden ze het publiek tot subtiele en energieke dansen.
URL:https://clustermusic.be/nl/agenda/duo-vandenabeele-knapen/
LOCATION:Silvesterfolk\, Leipzig\, Germany
CATEGORIES:Wouter Vandenabeele
END:VEVENT
BEGIN:VEVENT
DTSTART;TZID=Europe/Brussels:20241231T200000
DTEND;TZID=Europe/Brussels:20241231T220000
DTSTAMP:20260422T035134
CREATED:20241003T095317Z
LAST-MODIFIED:20241003T095446Z
UID:6546-1735675200-1735682400@clustermusic.be
SUMMARY:Duo Vandenabeele-Knapen
DESCRIPTION:Gepokt en gemazeld binnen het folkmilieu\, maar steeds met een open blik naar andere horizonten richten Wouter Vandenabeele en Jeroen Knapen zich nog een keer naar de dansvloer. Toverend op hun viool en gitaar verleiden ze het publiek tot subtiele en energieke dansen.
URL:https://clustermusic.be/nl/agenda/duo-vandenabeele-knapen-2/
LOCATION:Silvesterfolk\, Leipzig\, Germany
CATEGORIES:Wouter Vandenabeele
END:VEVENT
BEGIN:VEVENT
DTSTART;TZID=Europe/Brussels:20250124T200000
DTEND;TZID=Europe/Brussels:20250124T220000
DTSTAMP:20260422T035134
CREATED:20241003T095317Z
LAST-MODIFIED:20241003T095630Z
UID:6548-1737748800-1737756000@clustermusic.be
SUMMARY:Duo Vandenabeele-Knapen
DESCRIPTION:Gepokt en gemazeld binnen het folkmilieu\, maar steeds met een open blik naar andere horizonten richten Wouter Vandenabeele en Jeroen Knapen zich nog een keer naar de dansvloer. Toverend op hun viool en gitaar verleiden ze het publiek tot subtiele en energieke dansen.
URL:https://clustermusic.be/nl/agenda/duo-vandenabeele-knapen-3/
LOCATION:Muziekclub ’t Ey\, Koutermolenstraat 6b\, Belsele\, 9111\, Belgium
CATEGORIES:Wouter Vandenabeele
END:VEVENT
BEGIN:VEVENT
DTSTART;TZID=Europe/Brussels:20250205T203000
DTEND;TZID=Europe/Brussels:20250205T220000
DTSTAMP:20260422T035134
CREATED:20250130T103755Z
LAST-MODIFIED:20250130T103843Z
UID:7408-1738787400-1738792800@clustermusic.be
SUMMARY:Bao Sissoko & Wouter Vandenabeele
DESCRIPTION:Living Room Music Winter Sessions
URL:https://clustermusic.be/nl/agenda/bao-sissoko-wouter-vandenabeele/
LOCATION:Chez Agata\, 32 Drève des Equipages\, Watermaal-Bosvoorde\, 1170\, Belgium
CATEGORIES:Wouter Vandenabeele
END:VEVENT
BEGIN:VEVENT
DTSTART;TZID=Europe/Brussels:20250215T200000
DTEND;TZID=Europe/Brussels:20250215T220000
DTSTAMP:20260422T035134
CREATED:20241003T095317Z
LAST-MODIFIED:20241003T095819Z
UID:6550-1739649600-1739656800@clustermusic.be
SUMMARY:Duo Vandenabeele-Knapen
DESCRIPTION:Gepokt en gemazeld binnen het folkmilieu\, maar steeds met een open blik naar andere horizonten richten Wouter Vandenabeele en Jeroen Knapen zich nog een keer naar de dansvloer. Toverend op hun viool en gitaar verleiden ze het publiek tot subtiele en energieke dansen.
URL:https://clustermusic.be/nl/agenda/duo-vandenabeele-knapen-4/
LOCATION:Ronse\, Ronse\, Belgium
CATEGORIES:Wouter Vandenabeele
END:VEVENT
BEGIN:VEVENT
DTSTART;TZID=Europe/Brussels:20250228T200000
DTEND;TZID=Europe/Brussels:20250228T220000
DTSTAMP:20260422T035134
CREATED:20240927T141407Z
LAST-MODIFIED:20250227T151652Z
UID:6489-1740772800-1740780000@clustermusic.be
SUMMARY:Brugges festival met GFVP\, Troissoeur\, The Chai Connection - UITVERKOCHT
DESCRIPTION:Bijna drie decennia lang organiseerde wijlen Jo Van Driessche jaarlijks Brugges Festival\, een van de oudste indoor wereldmuziekfestivals in België. Op 28 februari 2025 wordt het festival éénmalig georganiseerd in de Biekorf Theaterzaal. Op vraag van de artiesten brengen muzikanten uit binnen- en buitenland\, onder leiding van Wouter Vandenabeele\, een muzikaal eerbetoon aan de man die voor velen een cruciale rol speelde in hun carrière.
URL:https://clustermusic.be/nl/agenda/bruggesfestival2025/
LOCATION:Theaterzaal Biekorf\, Sint-Jakobsstraat 8\, Brugge\, 8000\, Belgium
CATEGORIES:GFVP,Joris Vanvinckenroye,The Chai Connection,Thomas Noël,Wouter Vandenabeele
END:VEVENT
BEGIN:VEVENT
DTSTART;TZID=Europe/Brussels:20250305T100000
DTEND;TZID=Europe/Brussels:20250309T180000
DTSTAMP:20260422T035134
CREATED:20250227T152424Z
LAST-MODIFIED:20250227T152505Z
UID:7676-1741168800-1741543200@clustermusic.be
SUMMARY:Fiddlers on the Move #10
DESCRIPTION:Fiddlers on the Move is een jaarlijks festival dat zich richt op de viool in diverse niet-klassieke stijlen en genres. Het festival brengt op initiatief van Wouter Vandenabeele al voor de 10de keer getalenteerde violisten uit heel Europa samen voor een gevarieerd programma van workshops\, concerten en jamsessies. Gedurende vijf dagen wordt muziek van verschillende culturen en tradities verkend\, met als doel de rijke veelzijdigheid van de viool in verschillende muziekstromingen te vieren.
URL:https://clustermusic.be/nl/agenda/fiddlers-on-the-move-10/
LOCATION:De Centrale\, Kraankindersstraat 2\, Gent\, 9000\, Belgium
CATEGORIES:Wouter Vandenabeele
END:VEVENT
BEGIN:VEVENT
DTSTART;TZID=Europe/Brussels:20250313T200000
DTEND;TZID=Europe/Brussels:20250313T220000
DTSTAMP:20260422T035134
CREATED:20240913T123939Z
LAST-MODIFIED:20250321T140702Z
UID:7762-1741896000-1741903200@clustermusic.be
SUMMARY:Tamala - benefiet voor Ceppe
DESCRIPTION:De groep Tamala\, wat “reizigers” betekent\, doet zijn naam eer aan door de eindeloze mogelijkheden te verkennen van de samensmelting tussen kora\, viool\, zang en harmonica. Na jarenlange optredens op talloze podia in verschillende landen\, komt Tamala nu met hun derde album ‘Diboli’.
URL:https://clustermusic.be/nl/agenda/tamala-25-1/
LOCATION:De Centrale\, Kraankindersstraat 2\, Gent\, 9000\, Belgium
CATEGORIES:Tamala,Wouter Vandenabeele
END:VEVENT
BEGIN:VEVENT
DTSTART;TZID=Europe/Brussels:20250329T220000
DTEND;TZID=Europe/Brussels:20250329T233000
DTSTAMP:20260422T035134
CREATED:20241003T095317Z
LAST-MODIFIED:20250321T142509Z
UID:6556-1743285600-1743291000@clustermusic.be
SUMMARY:Duo Vandenabeele-Knapen
DESCRIPTION:Gepokt en gemazeld binnen het folkmilieu\, maar steeds met een open blik naar andere horizonten richten Wouter Vandenabeele en Jeroen Knapen zich nog een keer naar de dansvloer. Toverend op hun viool en gitaar verleiden ze het publiek tot subtiele en energieke dansen.
URL:https://clustermusic.be/nl/agenda/duo-vandenabeele-knapen-7/
LOCATION:FEST-i-BALL\, Lissabon\, Portugal
CATEGORIES:Wouter Vandenabeele
END:VEVENT
BEGIN:VEVENT
DTSTART;TZID=Europe/Brussels:20250403T203000
DTEND;TZID=Europe/Brussels:20250403T220000
DTSTAMP:20260422T035134
CREATED:20240927T141407Z
LAST-MODIFIED:20250321T172300Z
UID:7722-1743712200-1743717600@clustermusic.be
SUMMARY:Ghent Folk Violin Project - albumvoorstelling OGOPOGO (try-out)
DESCRIPTION:GFVP staat voor Europese traditionele muziek met verrassende cross-overs\, deels geïnspireerd door de composities van avant-gardist John Zorn en het baanbrekende minimalisme van Philip Glass. In het voorjaar van 2025 brengt het kwintet hun nieuwe album OGOPOGO uit.
URL:https://clustermusic.be/nl/agenda/gfvp-ogopogo-0/
LOCATION:Het Bruggenhuis\, Majoor Van Lierdelaan 50\, Geraardsbergen\, 9500\, Belgium
CATEGORIES:GFVP,Wouter Vandenabeele
END:VEVENT
BEGIN:VEVENT
DTSTART;TZID=Europe/Brussels:20250411T210000
DTEND;TZID=Europe/Brussels:20250411T220000
DTSTAMP:20260422T035134
CREATED:20240927T141407Z
LAST-MODIFIED:20250411T120725Z
UID:6493-1744405200-1744408800@clustermusic.be
SUMMARY:Ghent Folk Violin Project - albumvoorstelling OGOPOGO
DESCRIPTION:GFVP staat voor Europese traditionele muziek met verrassende cross-overs\, deels geïnspireerd door de composities van avant-gardist John Zorn en het baanbrekende minimalisme van Philip Glass. In het voorjaar van 2025 brengt het kwintet hun nieuwe album OGOPOGO uit.
URL:https://clustermusic.be/nl/agenda/gfvp-ogopogo-3/
LOCATION:Muziekclub ’t Ey\, Koutermolenstraat 6b\, Belsele\, 9111\, Belgium
CATEGORIES:GFVP,Wouter Vandenabeele
END:VEVENT
BEGIN:VEVENT
DTSTART;TZID=Europe/Brussels:20250413T110000
DTEND;TZID=Europe/Brussels:20250413T120000
DTSTAMP:20260422T035134
CREATED:20240927T141407Z
LAST-MODIFIED:20250320T085329Z
UID:6491-1744542000-1744545600@clustermusic.be
SUMMARY:Ghent Folk Violin Project - albumvoorstelling OGOPOGO
DESCRIPTION:GFVP staat voor Europese traditionele muziek met verrassende cross-overs\, deels geïnspireerd door de composities van avant-gardist John Zorn en het baanbrekende minimalisme van Philip Glass. In het voorjaar van 2025 brengt het kwintet hun nieuwe album OGOPOGO uit.
URL:https://clustermusic.be/nl/agenda/gfvp-ogopogo-2/
LOCATION:Ha Concerts Gent\, Ha Concerts Gent\, Gent\, Belgium
CATEGORIES:GFVP,Wouter Vandenabeele
END:VEVENT
BEGIN:VEVENT
DTSTART;TZID=Europe/Brussels:20250426T213000
DTEND;TZID=Europe/Brussels:20250426T233000
DTSTAMP:20260422T035134
CREATED:20241003T095317Z
LAST-MODIFIED:20250424T074715Z
UID:8032-1745703000-1745710200@clustermusic.be
SUMMARY:Duo Vandenabeele-Knapen
DESCRIPTION:Gepokt en gemazeld binnen het folkmilieu\, maar steeds met een open blik naar andere horizonten richten Wouter Vandenabeele en Jeroen Knapen zich nog een keer naar de dansvloer. Toverend op hun viool en gitaar verleiden ze het publiek tot subtiele en energieke dansen.
URL:https://clustermusic.be/nl/agenda/duo-vandenabeele-knapen-8/
LOCATION:Cellule133a\, Avenue Ducpétiaux 133a\, Brussel\, 1060\, Belgium
CATEGORIES:Wouter Vandenabeele
END:VEVENT
BEGIN:VEVENT
DTSTART;TZID=Europe/Brussels:20250517T140000
DTEND;TZID=Europe/Brussels:20250517T160000
DTSTAMP:20260422T035134
CREATED:20250516T085137Z
LAST-MODIFIED:20250516T085327Z
UID:8114-1747490400-1747497600@clustermusic.be
SUMMARY:Trio Wouter Vandenabeele\, Moussa Dembele & Vincent Noiret
DESCRIPTION:Een gelegenheidsensemble met drie absolute klassebakken uit de Gentse muziekscene: Wouter Vandenabeele\, Moussa Dembele en Vincent Noiret. Elk met een eigen stijl en klankkleur\, brengen ze samen een verrassend muzikaal verhaal.
URL:https://clustermusic.be/nl/agenda/trio-wouter-vandenabeele/
LOCATION:Les Goûts de Gand\, Machariuswijk\, Gent\, Belgium
CATEGORIES:Wouter Vandenabeele
END:VEVENT
BEGIN:VEVENT
DTSTART;TZID=Europe/Brussels:20250517T200000
DTEND;TZID=Europe/Brussels:20250517T220000
DTSTAMP:20260422T035134
CREATED:20241003T095317Z
LAST-MODIFIED:20241003T095953Z
UID:6553-1747512000-1747519200@clustermusic.be
SUMMARY:Duo Vandenabeele-Knapen
DESCRIPTION:Gepokt en gemazeld binnen het folkmilieu\, maar steeds met een open blik naar andere horizonten richten Wouter Vandenabeele en Jeroen Knapen zich nog een keer naar de dansvloer. Toverend op hun viool en gitaar verleiden ze het publiek tot subtiele en energieke dansen.
URL:https://clustermusic.be/nl/agenda/duo-vandenabeele-knapen-5/
LOCATION:Oostmalle\, Oostmalle\, Belgium
CATEGORIES:Wouter Vandenabeele
END:VEVENT
BEGIN:VEVENT
DTSTART;TZID=Europe/Brussels:20250528T200000
DTEND;TZID=Europe/Brussels:20250528T220000
DTSTAMP:20260422T035134
CREATED:20240927T141407Z
LAST-MODIFIED:20250320T085323Z
UID:6496-1748462400-1748469600@clustermusic.be
SUMMARY:Ghent Folk Violin Project - albumvoorstelling OGOPOGO
DESCRIPTION:GFVP staat voor Europese traditionele muziek met verrassende cross-overs\, deels geïnspireerd door de composities van avant-gardist John Zorn en het baanbrekende minimalisme van Philip Glass. In het voorjaar van 2025 brengt het kwintet hun nieuwe album OGOPOGO uit.
URL:https://clustermusic.be/nl/agenda/gfvp-ogopogo-4/
LOCATION:Merode Festival\, Diest
CATEGORIES:GFVP,Wouter Vandenabeele
END:VEVENT
BEGIN:VEVENT
DTSTART;TZID=Europe/Brussels:20250529T200000
DTEND;TZID=Europe/Brussels:20250529T220000
DTSTAMP:20260422T035134
CREATED:20240927T141407Z
LAST-MODIFIED:20250325T173254Z
UID:7784-1748548800-1748556000@clustermusic.be
SUMMARY:Ghent Folk Violin Project - albumvoorstelling OGOPOGO
DESCRIPTION:GFVP staat voor Europese traditionele muziek met verrassende cross-overs\, deels geïnspireerd door de composities van avant-gardist John Zorn en het baanbrekende minimalisme van Philip Glass. In het voorjaar van 2025 brengt het kwintet hun nieuwe album OGOPOGO uit.
URL:https://clustermusic.be/nl/agenda/gfvp-ogopogo-6/
LOCATION:Atelier Gent 74\, François Benardstraat 74\, Gent\, 9000\, Belgium
CATEGORIES:GFVP,Wouter Vandenabeele
END:VEVENT
END:VCALENDAR