BEGIN:VCALENDAR
VERSION:2.0
PRODID:-//Cluster Music - ECPv6.15.13//NONSGML v1.0//EN
CALSCALE:GREGORIAN
METHOD:PUBLISH
X-WR-CALNAME:Cluster Music
X-ORIGINAL-URL:https://clustermusic.be/nl
X-WR-CALDESC:Evenementen voor Cluster Music
REFRESH-INTERVAL;VALUE=DURATION:PT1H
X-Robots-Tag:noindex
X-PUBLISHED-TTL:PT1H
BEGIN:VTIMEZONE
TZID:Europe/Brussels
BEGIN:DAYLIGHT
TZOFFSETFROM:+0100
TZOFFSETTO:+0200
TZNAME:CEST
DTSTART:20240331T010000
END:DAYLIGHT
BEGIN:STANDARD
TZOFFSETFROM:+0200
TZOFFSETTO:+0100
TZNAME:CET
DTSTART:20241027T010000
END:STANDARD
BEGIN:DAYLIGHT
TZOFFSETFROM:+0100
TZOFFSETTO:+0200
TZNAME:CEST
DTSTART:20250330T010000
END:DAYLIGHT
BEGIN:STANDARD
TZOFFSETFROM:+0200
TZOFFSETTO:+0100
TZNAME:CET
DTSTART:20251026T010000
END:STANDARD
BEGIN:DAYLIGHT
TZOFFSETFROM:+0100
TZOFFSETTO:+0200
TZNAME:CEST
DTSTART:20260329T010000
END:DAYLIGHT
BEGIN:STANDARD
TZOFFSETFROM:+0200
TZOFFSETTO:+0100
TZNAME:CET
DTSTART:20261025T010000
END:STANDARD
END:VTIMEZONE
BEGIN:VEVENT
DTSTART;TZID=Europe/Brussels:20250517T140000
DTEND;TZID=Europe/Brussels:20250517T160000
DTSTAMP:20260421T170701
CREATED:20250516T085137Z
LAST-MODIFIED:20250516T085327Z
UID:8114-1747490400-1747497600@clustermusic.be
SUMMARY:Trio Wouter Vandenabeele\, Moussa Dembele & Vincent Noiret
DESCRIPTION:Een gelegenheidsensemble met drie absolute klassebakken uit de Gentse muziekscene: Wouter Vandenabeele\, Moussa Dembele en Vincent Noiret. Elk met een eigen stijl en klankkleur\, brengen ze samen een verrassend muzikaal verhaal.
URL:https://clustermusic.be/nl/agenda/trio-wouter-vandenabeele/
LOCATION:Les Goûts de Gand\, Machariuswijk\, Gent\, Belgium
CATEGORIES:Wouter Vandenabeele
END:VEVENT
END:VCALENDAR